BEGIN:VCALENDAR
VERSION:2.0
PRODID:-//Hare Krishna Melbourne - ECPv6.15.20//NONSGML v1.0//EN
CALSCALE:GREGORIAN
METHOD:PUBLISH
X-WR-CALNAME:Hare Krishna Melbourne
X-ORIGINAL-URL:https://www.harekrishnamelbourne.com.au
X-WR-CALDESC:Events for Hare Krishna Melbourne
REFRESH-INTERVAL;VALUE=DURATION:PT1H
X-Robots-Tag:noindex
X-PUBLISHED-TTL:PT1H
BEGIN:VTIMEZONE
TZID:Australia/Melbourne
BEGIN:STANDARD
TZOFFSETFROM:+1100
TZOFFSETTO:+1000
TZNAME:AEST
DTSTART:20250405T160000
END:STANDARD
BEGIN:DAYLIGHT
TZOFFSETFROM:+1000
TZOFFSETTO:+1100
TZNAME:AEDT
DTSTART:20251004T160000
END:DAYLIGHT
BEGIN:STANDARD
TZOFFSETFROM:+1100
TZOFFSETTO:+1000
TZNAME:AEST
DTSTART:20260404T160000
END:STANDARD
BEGIN:DAYLIGHT
TZOFFSETFROM:+1000
TZOFFSETTO:+1100
TZNAME:AEDT
DTSTART:20261003T160000
END:DAYLIGHT
BEGIN:STANDARD
TZOFFSETFROM:+1100
TZOFFSETTO:+1000
TZNAME:AEST
DTSTART:20270403T160000
END:STANDARD
BEGIN:DAYLIGHT
TZOFFSETFROM:+1000
TZOFFSETTO:+1100
TZNAME:AEDT
DTSTART:20271002T160000
END:DAYLIGHT
END:VTIMEZONE
BEGIN:VTIMEZONE
TZID:Australia/Melbourne
BEGIN:STANDARD
TZOFFSETFROM:+1100
TZOFFSETTO:+1000
TZNAME:AEST
DTSTART:20250405T160000
END:STANDARD
BEGIN:DAYLIGHT
TZOFFSETFROM:+1000
TZOFFSETTO:+1100
TZNAME:AEDT
DTSTART:20251004T160000
END:DAYLIGHT
BEGIN:STANDARD
TZOFFSETFROM:+1100
TZOFFSETTO:+1000
TZNAME:AEST
DTSTART:20260404T160000
END:STANDARD
BEGIN:DAYLIGHT
TZOFFSETFROM:+1000
TZOFFSETTO:+1100
TZNAME:AEDT
DTSTART:20261003T160000
END:DAYLIGHT
BEGIN:STANDARD
TZOFFSETFROM:+1100
TZOFFSETTO:+1000
TZNAME:AEST
DTSTART:20270403T160000
END:STANDARD
BEGIN:DAYLIGHT
TZOFFSETFROM:+1000
TZOFFSETTO:+1100
TZNAME:AEDT
DTSTART:20271002T160000
END:DAYLIGHT
END:VTIMEZONE
BEGIN:VEVENT
DTSTART;TZID=Australia/Melbourne:20260829T000000
DTEND;TZID=Australia/Melbourne:20260829T000000
DTSTAMP:20260421T083619
CREATED:20260113T002311Z
LAST-MODIFIED:20260113T002311Z
UID:7549-1787961600-1787961600@www.harekrishnamelbourne.com.au
SUMMARY:Pratipat; Srila Prabhupada's departure for the USA; First day of Hrsikesa Masa
DESCRIPTION:
URL:https://www.harekrishnamelbourne.com.au/event/pratipat-srila-prabhupadas-departure-for-the-usa-first-day-of-hrsikesa-masa/
END:VEVENT
BEGIN:VEVENT
DTSTART;TZID=Australia/Melbourne:20260905T000000
DTEND;TZID=Australia/Melbourne:20260905T000000
DTSTAMP:20260421T083619
CREATED:20260113T002311Z
LAST-MODIFIED:20260113T002311Z
UID:7550-1788566400-1788566400@www.harekrishnamelbourne.com.au
SUMMARY:Navami; Sri Krsna Janmastami: Appearance of Lord Sri Krsna; (Fast till midnight)
DESCRIPTION:
URL:https://www.harekrishnamelbourne.com.au/event/navami-sri-krsna-janmastami-appearance-of-lord-sri-krsna-fast-till-midnight/
END:VEVENT
BEGIN:VEVENT
DTSTART;TZID=Australia/Melbourne:20260906T000000
DTEND;TZID=Australia/Melbourne:20260906T000000
DTSTAMP:20260421T083619
CREATED:20260113T002328Z
LAST-MODIFIED:20260113T002328Z
UID:7551-1788652800-1788652800@www.harekrishnamelbourne.com.au
SUMMARY:Dasami; Nandotsava; Srila Prabhupada - Appearance; (Fast till noon)
DESCRIPTION:
URL:https://www.harekrishnamelbourne.com.au/event/dasami-nandotsava-srila-prabhupada-appearance-fast-till-noon/
END:VEVENT
BEGIN:VEVENT
DTSTART;TZID=Australia/Melbourne:20260907T000000
DTEND;TZID=Australia/Melbourne:20260907T000000
DTSTAMP:20260421T083619
CREATED:20260113T002328Z
LAST-MODIFIED:20260113T002328Z
UID:7552-1788739200-1788739200@www.harekrishnamelbourne.com.au
SUMMARY:Ekadasi (suitable for fasting); Fasting for Annada Ekadasi
DESCRIPTION:
URL:https://www.harekrishnamelbourne.com.au/event/ekadasi-suitable-for-fasting-fasting-for-annada-ekadasi/
END:VEVENT
BEGIN:VEVENT
DTSTART;TZID=Australia/Melbourne:20260908T000000
DTEND;TZID=Australia/Melbourne:20260908T000000
DTSTAMP:20260421T083619
CREATED:20260113T002328Z
LAST-MODIFIED:20260113T002328Z
UID:7553-1788825600-1788825600@www.harekrishnamelbourne.com.au
SUMMARY:Dvadasi; Break fast 06:31 - 10:22 (AEST)
DESCRIPTION:
URL:https://www.harekrishnamelbourne.com.au/event/dvadasi-break-fast-0631-1022-aest/
END:VEVENT
BEGIN:VEVENT
DTSTART;TZID=Australia/Melbourne:20260916T000000
DTEND;TZID=Australia/Melbourne:20260916T000000
DTSTAMP:20260421T083619
CREATED:20260113T002329Z
LAST-MODIFIED:20260113T002329Z
UID:7554-1789516800-1789516800@www.harekrishnamelbourne.com.au
SUMMARY:Pancami; Srimati Sita Thakurani (Sri Advaita's consort) - Appearance
DESCRIPTION:
URL:https://www.harekrishnamelbourne.com.au/event/pancami-srimati-sita-thakurani-sri-advaitas-consort-appearance-3/
END:VEVENT
BEGIN:VEVENT
DTSTART;TZID=Australia/Melbourne:20260918T000000
DTEND;TZID=Australia/Melbourne:20260918T000000
DTSTAMP:20260421T083619
CREATED:20260113T002329Z
LAST-MODIFIED:20260113T002329Z
UID:7555-1789689600-1789689600@www.harekrishnamelbourne.com.au
SUMMARY:Saptami; Kanya Sankranti
DESCRIPTION:
URL:https://www.harekrishnamelbourne.com.au/event/saptami-kanya-sankranti/
END:VEVENT
BEGIN:VEVENT
DTSTART;TZID=Australia/Melbourne:20260919T000000
DTEND;TZID=Australia/Melbourne:20260919T000000
DTSTAMP:20260421T083619
CREATED:20260113T002345Z
LAST-MODIFIED:20260113T002345Z
UID:7556-1789776000-1789776000@www.harekrishnamelbourne.com.au
SUMMARY:Astami; Radhastami: Appearance of Srimati Radharani; (Fast till noon)
DESCRIPTION:
URL:https://www.harekrishnamelbourne.com.au/event/astami-radhastami-appearance-of-srimati-radharani-fast-till-noon/
END:VEVENT
BEGIN:VEVENT
DTSTART;TZID=Australia/Melbourne:20260922T000000
DTEND;TZID=Australia/Melbourne:20260922T000000
DTSTAMP:20260421T083619
CREATED:20260113T002346Z
LAST-MODIFIED:20260113T002346Z
UID:7557-1790035200-1790035200@www.harekrishnamelbourne.com.au
SUMMARY:Ekadasi (suitable for fasting); Fasting for Parsva Ekadasi; (Fast till noon for Vamanadeva\, with feast tomorrow)
DESCRIPTION:
URL:https://www.harekrishnamelbourne.com.au/event/ekadasi-suitable-for-fasting-fasting-for-parsva-ekadasi-fast-till-noon-for-vamanadeva-with-feast-tomorrow/
END:VEVENT
BEGIN:VEVENT
DTSTART;TZID=Australia/Melbourne:20260923T000000
DTEND;TZID=Australia/Melbourne:20260923T000000
DTSTAMP:20260421T083619
CREATED:20260113T002346Z
LAST-MODIFIED:20260113T002346Z
UID:7558-1790121600-1790121600@www.harekrishnamelbourne.com.au
SUMMARY:Dvadasi; Break fast 08:31 - 10:11 (AEST); Sri Vamana Dvadasi: Appearance of Lord Vamanadeva; (Fasting is done yesterday\, today is feast); Srila Jiva Gosvami - Appearance
DESCRIPTION:
URL:https://www.harekrishnamelbourne.com.au/event/dvadasi-break-fast-0831-1011-aest-sri-vamana-dvadasi-appearance-of-lord-vamanadeva-fasting-is-done-yesterday-today-is-feast-srila-jiva-gosvami-appearance/
END:VEVENT
BEGIN:VEVENT
DTSTART;TZID=Australia/Melbourne:20260924T000000
DTEND;TZID=Australia/Melbourne:20260924T000000
DTSTAMP:20260421T083619
CREATED:20260113T002346Z
LAST-MODIFIED:20260113T002346Z
UID:7559-1790208000-1790208000@www.harekrishnamelbourne.com.au
SUMMARY:Trayodasi; Srila Bhaktivinoda Thakura - Appearance; (Fast till noon)
DESCRIPTION:
URL:https://www.harekrishnamelbourne.com.au/event/trayodasi-srila-bhaktivinoda-thakura-appearance-fast-till-noon/
END:VEVENT
BEGIN:VEVENT
DTSTART;TZID=Australia/Melbourne:20260925T000000
DTEND;TZID=Australia/Melbourne:20260925T000000
DTSTAMP:20260421T083619
CREATED:20260113T002346Z
LAST-MODIFIED:20260113T002346Z
UID:7560-1790294400-1790294400@www.harekrishnamelbourne.com.au
SUMMARY:Caturdasi; Ananta Caturdasi Vrata; Srila Haridasa Thakura - Disappearance; Last day of the second Caturmasya month [PURNIMA SYSTEM]
DESCRIPTION:
URL:https://www.harekrishnamelbourne.com.au/event/caturdasi-ananta-caturdasi-vrata-srila-haridasa-thakura-disappearance-last-day-of-the-second-caturmasya-month-purnima-system/
END:VEVENT
BEGIN:VEVENT
DTSTART;TZID=Australia/Melbourne:20260926T000000
DTEND;TZID=Australia/Melbourne:20260926T000000
DTSTAMP:20260421T083619
CREATED:20260113T002348Z
LAST-MODIFIED:20260113T002348Z
UID:7561-1790380800-1790380800@www.harekrishnamelbourne.com.au
SUMMARY:Purnima; Bhadra Purnima; Sri Visvarupa Mahotsava; Acceptance of sannyasa by Srila Prabhupada; Third month of Caturmasya begins [PURNIMA SYSTEM]; (milk fast for one month); Last day of Hrsikesa Masa
DESCRIPTION:
URL:https://www.harekrishnamelbourne.com.au/event/purnima-bhadra-purnima-sri-visvarupa-mahotsava-acceptance-of-sannyasa-by-srila-prabhupada-third-month-of-caturmasya-begins-purnima-system-milk-fast-for-one-month-last-day-of-hrsikesa-masa-3/
END:VEVENT
BEGIN:VEVENT
DTSTART;TZID=Australia/Melbourne:20260927T000000
DTEND;TZID=Australia/Melbourne:20260927T000000
DTSTAMP:20260421T083619
CREATED:20260113T002348Z
LAST-MODIFIED:20260113T002348Z
UID:7562-1790467200-1790467200@www.harekrishnamelbourne.com.au
SUMMARY:Pratipat; First day of Padmanabha Masa
DESCRIPTION:
URL:https://www.harekrishnamelbourne.com.au/event/pratipat-first-day-of-padmanabha-masa-3/
END:VEVENT
BEGIN:VEVENT
DTSTART;TZID=Australia/Melbourne:20261003T000000
DTEND;TZID=Australia/Melbourne:20261003T000000
DTSTAMP:20260421T083619
CREATED:20260113T002348Z
LAST-MODIFIED:20260113T002348Z
UID:7563-1790985600-1790985600@www.harekrishnamelbourne.com.au
SUMMARY:Saptami; Srila Prabhupada's arrival in the USA
DESCRIPTION:
URL:https://www.harekrishnamelbourne.com.au/event/saptami-srila-prabhupadas-arrival-in-the-usa-3/
END:VEVENT
BEGIN:VEVENT
DTSTART;TZID=Australia/Melbourne:20261007T000000
DTEND;TZID=Australia/Melbourne:20261007T000000
DTSTAMP:20260421T083619
CREATED:20260113T002348Z
LAST-MODIFIED:20260113T002348Z
UID:7564-1791331200-1791331200@www.harekrishnamelbourne.com.au
SUMMARY:Dvadasi (suitable for fasting); Fasting for Indira Ekadasi
DESCRIPTION:
URL:https://www.harekrishnamelbourne.com.au/event/dvadasi-suitable-for-fasting-fasting-for-indira-ekadasi/
END:VEVENT
BEGIN:VEVENT
DTSTART;TZID=Australia/Melbourne:20261008T000000
DTEND;TZID=Australia/Melbourne:20261008T000000
DTSTAMP:20260421T083619
CREATED:20260113T002349Z
LAST-MODIFIED:20260113T002349Z
UID:7565-1791417600-1791417600@www.harekrishnamelbourne.com.au
SUMMARY:Trayodasi; Break fast 06:45 - 11:00 (AEDT)
DESCRIPTION:
URL:https://www.harekrishnamelbourne.com.au/event/trayodasi-break-fast-0645-1100-aedt/
END:VEVENT
BEGIN:VEVENT
DTSTART;TZID=Australia/Melbourne:20261018T000000
DTEND;TZID=Australia/Melbourne:20261018T000000
DTSTAMP:20260421T083619
CREATED:20260113T012405Z
LAST-MODIFIED:20260113T012405Z
UID:7566-1792281600-1792281600@www.harekrishnamelbourne.com.au
SUMMARY:Saptami; Durga Puja; Tula Sankranti
DESCRIPTION:
URL:https://www.harekrishnamelbourne.com.au/event/saptami-durga-puja-tula-sankranti/
END:VEVENT
BEGIN:VEVENT
DTSTART;TZID=Australia/Melbourne:20261021T000000
DTEND;TZID=Australia/Melbourne:20261021T000000
DTSTAMP:20260421T083619
CREATED:20260113T012405Z
LAST-MODIFIED:20260113T012405Z
UID:7567-1792540800-1792540800@www.harekrishnamelbourne.com.au
SUMMARY:Dasami; Ramacandra Vijayotsava; Sri Madhvacarya - Appearance
DESCRIPTION:
URL:https://www.harekrishnamelbourne.com.au/event/dasami-ramacandra-vijayotsava-sri-madhvacarya-appearance-3/
END:VEVENT
BEGIN:VEVENT
DTSTART;TZID=Australia/Melbourne:20261022T000000
DTEND;TZID=Australia/Melbourne:20261022T000000
DTSTAMP:20260421T083619
CREATED:20260113T012406Z
LAST-MODIFIED:20260113T012406Z
UID:7568-1792627200-1792627200@www.harekrishnamelbourne.com.au
SUMMARY:Ekadasi (suitable for fasting); Fasting for Pasankusa Ekadasi
DESCRIPTION:
URL:https://www.harekrishnamelbourne.com.au/event/ekadasi-suitable-for-fasting-fasting-for-pasankusa-ekadasi-3/
END:VEVENT
BEGIN:VEVENT
DTSTART;TZID=Australia/Melbourne:20261023T000000
DTEND;TZID=Australia/Melbourne:20261023T000000
DTSTAMP:20260421T083619
CREATED:20260113T012406Z
LAST-MODIFIED:20260113T012406Z
UID:7569-1792713600-1792713600@www.harekrishnamelbourne.com.au
SUMMARY:Dvadasi; Break fast 06:24 - 10:51 (AEDT); Srila Raghunatha Dasa Gosvami - Disappearance; Srila Raghunatha Bhatta Gosvami - Disappearance; Srila Krsnadasa Kaviraja Gosvami - Disappearance
DESCRIPTION:
URL:https://www.harekrishnamelbourne.com.au/event/dvadasi-break-fast-0624-1051-aedt-srila-raghunatha-dasa-gosvami-disappearance-srila-raghunatha-bhatta-gosvami-disappearance-srila-krsnadasa-kaviraja-gosvami-disappearance/
END:VEVENT
BEGIN:VEVENT
DTSTART;TZID=Australia/Melbourne:20261025T000000
DTEND;TZID=Australia/Melbourne:20261025T000000
DTSTAMP:20260421T083619
CREATED:20260113T012406Z
LAST-MODIFIED:20260113T012406Z
UID:7570-1792886400-1792886400@www.harekrishnamelbourne.com.au
SUMMARY:Caturdasi; Last day of the third Caturmasya month [PURNIMA SYSTEM]
DESCRIPTION:
URL:https://www.harekrishnamelbourne.com.au/event/caturdasi-last-day-of-the-third-caturmasya-month-purnima-system-3/
END:VEVENT
BEGIN:VEVENT
DTSTART;TZID=Australia/Melbourne:20261026T000000
DTEND;TZID=Australia/Melbourne:20261026T000000
DTSTAMP:20260421T083619
CREATED:20260113T012657Z
LAST-MODIFIED:20260113T012657Z
UID:7571-1792972800-1792972800@www.harekrishnamelbourne.com.au
SUMMARY:Purnima; Sri Krsna Saradiya Rasayatra; Sri Murari Gupta - Disappearance; Laksmi Puja; Fourth month of Caturmasya begins [PURNIMA SYSTEM]; (urad dal fast for one month); Last day of Padmanabha Masa
DESCRIPTION:
URL:https://www.harekrishnamelbourne.com.au/event/purnima-sri-krsna-saradiya-rasayatra-sri-murari-gupta-disappearance-laksmi-puja-fourth-month-of-caturmasya-begins-purnima-system-urad-dal-fast-for-one-month-last-day-of-padmanabha-masa/
END:VEVENT
BEGIN:VEVENT
DTSTART;TZID=Australia/Melbourne:20261027T000000
DTEND;TZID=Australia/Melbourne:20261027T000000
DTSTAMP:20260421T083619
CREATED:20260113T012657Z
LAST-MODIFIED:20260113T012657Z
UID:7572-1793059200-1793059200@www.harekrishnamelbourne.com.au
SUMMARY:Pratipat; First day of Damodara Masa
DESCRIPTION:
URL:https://www.harekrishnamelbourne.com.au/event/pratipat-first-day-of-damodara-masa-3/
END:VEVENT
BEGIN:VEVENT
DTSTART;TZID=Australia/Melbourne:20261030T000000
DTEND;TZID=Australia/Melbourne:20261030T000000
DTSTAMP:20260421T083619
CREATED:20260113T012657Z
LAST-MODIFIED:20260113T012657Z
UID:7573-1793318400-1793318400@www.harekrishnamelbourne.com.au
SUMMARY:Pancami; Srila Narottama Dasa Thakura - Disappearance
DESCRIPTION:
URL:https://www.harekrishnamelbourne.com.au/event/pancami-srila-narottama-dasa-thakura-disappearance-3/
END:VEVENT
BEGIN:VEVENT
DTSTART;TZID=Australia/Melbourne:20261102T000000
DTEND;TZID=Australia/Melbourne:20261102T000000
DTSTAMP:20260421T083619
CREATED:20260113T012658Z
LAST-MODIFIED:20260113T012658Z
UID:7574-1793577600-1793577600@www.harekrishnamelbourne.com.au
SUMMARY:Astami; Bahulastami
DESCRIPTION:
URL:https://www.harekrishnamelbourne.com.au/event/astami-bahulastami-3/
END:VEVENT
BEGIN:VEVENT
DTSTART;TZID=Australia/Melbourne:20261103T000000
DTEND;TZID=Australia/Melbourne:20261103T000000
DTSTAMP:20260421T083619
CREATED:20260113T012658Z
LAST-MODIFIED:20260113T012658Z
UID:7575-1793664000-1793664000@www.harekrishnamelbourne.com.au
SUMMARY:Navami; Sri Virabhadra - Appearance
DESCRIPTION:
URL:https://www.harekrishnamelbourne.com.au/event/navami-sri-virabhadra-appearance-3/
END:VEVENT
BEGIN:VEVENT
DTSTART;TZID=Australia/Melbourne:20261105T000000
DTEND;TZID=Australia/Melbourne:20261105T000000
DTSTAMP:20260421T083619
CREATED:20260113T012715Z
LAST-MODIFIED:20260113T012715Z
UID:7576-1793836800-1793836800@www.harekrishnamelbourne.com.au
SUMMARY:Ekadasi (suitable for fasting); Fasting for Rama Ekadasi
DESCRIPTION:
URL:https://www.harekrishnamelbourne.com.au/event/ekadasi-suitable-for-fasting-fasting-for-rama-ekadasi-3/
END:VEVENT
BEGIN:VEVENT
DTSTART;TZID=Australia/Melbourne:20261106T000000
DTEND;TZID=Australia/Melbourne:20261106T000000
DTSTAMP:20260421T083619
CREATED:20260113T012715Z
LAST-MODIFIED:20260113T012715Z
UID:7577-1793923200-1793923200@www.harekrishnamelbourne.com.au
SUMMARY:Dvadasi; Break fast 06:08 - 10:45 (AEDT)
DESCRIPTION:
URL:https://www.harekrishnamelbourne.com.au/event/dvadasi-break-fast-0608-1045-aedt/
END:VEVENT
BEGIN:VEVENT
DTSTART;TZID=Australia/Melbourne:20261109T000000
DTEND;TZID=Australia/Melbourne:20261109T000000
DTSTAMP:20260421T083619
CREATED:20260113T012715Z
LAST-MODIFIED:20260113T012715Z
UID:7578-1794182400-1794182400@www.harekrishnamelbourne.com.au
SUMMARY:Amavasya; Dipa dana\, Dipavali\, (Kali Puja)
DESCRIPTION:
URL:https://www.harekrishnamelbourne.com.au/event/amavasya-dipa-dana-dipavali-kali-puja-3/
END:VEVENT
END:VCALENDAR